BEGIN:VCALENDAR
VERSION:2.0
PRODID:-//wp-events-plugin.com//7.2.3.1//EN
TZID:Europe/Berlin
X-WR-TIMEZONE:Europe/Berlin
BEGIN:VEVENT
UID:7@holzblaeser.com
DTSTART;TZID=Europe/Berlin:20250118T200000
DTEND;TZID=Europe/Berlin:20250118T220000
DTSTAMP:20250115T134033Z
URL:https://www.holzblaeser.com/berlin/veranstaltungen/jazz-mit-peter-weni
 gers-acoustic-trio/
SUMMARY:JAZZ MIT Peter Weniger's Acoustic Trio
DESCRIPTION:"Being part in the act of creation" - live und kostenlos bei DI
 E HOLZBLÄSER!
ATTACH;FMTTYPE=image/jpeg:https://www.holzblaeser.com/berlin/wp-content/up
 loads/2025/01/Weniger-Tagliavia-Köbberling.jpg
END:VEVENT
BEGIN:VTIMEZONE
TZID:Europe/Berlin
X-LIC-LOCATION:Europe/Berlin
BEGIN:STANDARD
DTSTART:20241027T020000
TZOFFSETFROM:+0200
TZOFFSETTO:+0100
TZNAME:CET
END:STANDARD
END:VTIMEZONE
END:VCALENDAR